Package: msa Version: 1.41.0 Command: /Library/Frameworks/R.framework/Resources/bin/R CMD build --keep-empty-dirs --no-resave-data msa StartedAt: 2025-07-14 17:45:08 -0400 (Mon, 14 Jul 2025) EndedAt: 2025-07-14 17:51:56 -0400 (Mon, 14 Jul 2025) EllapsedTime: 408.2 seconds RetCode: 0 Status: OK PackageFile: msa_1.41.0.tar.gz PackageFileSize: 3.91 MiB