Package: msa Version: 1.41.0 Command: /Library/Frameworks/R.framework/Resources/bin/R CMD INSTALL msa StartedAt: 2025-07-01 15:17:01 -0400 (Tue, 01 Jul 2025) EndedAt: 2025-07-01 15:18:33 -0400 (Tue, 01 Jul 2025) EllapsedTime: 91.6 seconds RetCode: 1 Status: ERROR