Package: msa Version: 1.41.3 Command: /Library/Frameworks/R.framework/Resources/bin/R CMD check --install=check:msa.install-out.txt --library=/Library/Frameworks/R.framework/Resources/library --no-vignettes --timings msa_1.41.3.tar.gz StartedAt: 2025-10-03 20:35:01 -0400 (Fri, 03 Oct 2025) EndedAt: 2025-10-03 20:35:35 -0400 (Fri, 03 Oct 2025) EllapsedTime: 34.5 seconds RetCode: 0 Status: WARNINGS CheckDir: msa.Rcheck Warnings: 2