Package: msa Version: 1.41.0 Command: /Library/Frameworks/R.framework/Resources/bin/R CMD build --keep-empty-dirs --no-resave-data msa StartedAt: 2025-07-01 16:59:50 -0400 (Tue, 01 Jul 2025) EndedAt: 2025-07-01 17:01:26 -0400 (Tue, 01 Jul 2025) EllapsedTime: 96.1 seconds RetCode: 1 Status: ERROR PackageFile: None PackageFileSize: NA