Package: msa Version: 1.41.3 Command: rm -rf msa.buildbin-libdir && mkdir msa.buildbin-libdir && /Users/biocbuild/BBS/utils/build-universal.sh msa_1.41.3.tar.gz /Library/Frameworks/R.framework/Resources/bin/R msa.buildbin-libdir StartedAt: 2025-10-03 22:47:21 -0400 (Fri, 03 Oct 2025) EndedAt: 2025-10-03 22:49:13 -0400 (Fri, 03 Oct 2025) EllapsedTime: 112.2 seconds RetCode: 0 Status: OK PackageFile: msa_1.41.3.tgz PackageFileSize: 1.704 MiB