Package: msPurity Version: 1.35.0 Command: /home/biocbuild/R/R/bin/R CMD INSTALL msPurity StartedAt: 2025-10-02 20:54:17 -0000 (Thu, 02 Oct 2025) EndedAt: 2025-10-02 20:54:33 -0000 (Thu, 02 Oct 2025) EllapsedTime: 15.5 seconds RetCode: 0 Status: OK