Package: msPurity Version: 1.35.0 Command: /home/biocbuild/R/R/bin/R CMD build --keep-empty-dirs --no-resave-data msPurity StartedAt: 2025-10-03 01:41:03 -0000 (Fri, 03 Oct 2025) EndedAt: 2025-10-03 01:53:09 -0000 (Fri, 03 Oct 2025) EllapsedTime: 726.3 seconds RetCode: 0 Status: OK PackageFile: msPurity_1.35.0.tar.gz PackageFileSize: 11.48 MiB