Package: msImpute Version: 1.19.0 Command: /home/biocbuild/R/R/bin/R CMD check --install=check:msImpute.install-out.txt --library=/home/biocbuild/R/R/site-library --no-vignettes --timings msImpute_1.19.0.tar.gz StartedAt: 2025-07-01 09:37:45 -0000 (Tue, 01 Jul 2025) EndedAt: 2025-07-01 09:41:36 -0000 (Tue, 01 Jul 2025) EllapsedTime: 231.3 seconds RetCode: 0 Status: OK CheckDir: msImpute.Rcheck Warnings: 0