Package: msImpute Version: 1.19.0 Command: F:\biocbuild\bbs-3.22-bioc\R\bin\R.exe CMD INSTALL msImpute StartedAt: 2025-07-24 17:04:19 -0400 (Thu, 24 Jul 2025) EndedAt: 2025-07-24 17:05:09 -0400 (Thu, 24 Jul 2025) EllapsedTime: 50.4 seconds RetCode: 0 Status: OK