Package: msImpute Version: 1.19.0 Command: chmod a+r msImpute -R && F:\biocbuild\bbs-3.22-bioc\R\bin\R.exe CMD build --keep-empty-dirs --no-resave-data msImpute StartedAt: 2025-07-24 20:47:12 -0400 (Thu, 24 Jul 2025) EndedAt: 2025-07-24 20:49:39 -0400 (Thu, 24 Jul 2025) EllapsedTime: 146.4 seconds RetCode: 0 Status: OK PackageFile: msImpute_1.19.0.tar.gz PackageFileSize: 1.601 MiB