Package: msImpute Version: 1.19.0 Command: /Library/Frameworks/R.framework/Resources/bin/R CMD INSTALL msImpute StartedAt: 2025-07-20 15:57:02 -0400 (Sun, 20 Jul 2025) EndedAt: 2025-07-20 15:57:40 -0400 (Sun, 20 Jul 2025) EllapsedTime: 38.3 seconds RetCode: 0 Status: OK