Package: mpra Version: 1.31.0 Command: F:\biocbuild\bbs-3.22-bioc\R\bin\R.exe CMD INSTALL mpra StartedAt: 2025-07-20 15:55:51 -0400 (Sun, 20 Jul 2025) EndedAt: 2025-07-20 15:56:23 -0400 (Sun, 20 Jul 2025) EllapsedTime: 31.6 seconds RetCode: 0 Status: OK