Package: mpra Version: 1.31.0 Command: F:\biocbuild\bbs-3.22-bioc\R\bin\R.exe CMD check --no-multiarch --install=check:mpra.install-out.txt --library=F:\biocbuild\bbs-3.22-bioc\R\library --no-vignettes --timings mpra_1.31.0.tar.gz StartedAt: 2025-07-21 04:17:47 -0400 (Mon, 21 Jul 2025) EndedAt: 2025-07-21 04:21:21 -0400 (Mon, 21 Jul 2025) EllapsedTime: 213.4 seconds RetCode: 0 Status: OK CheckDir: mpra.Rcheck Warnings: 0