Package: mpra Version: 1.31.0 Command: /Library/Frameworks/R.framework/Resources/bin/R CMD build --keep-empty-dirs --no-resave-data mpra StartedAt: 2025-07-01 17:46:57 -0400 (Tue, 01 Jul 2025) EndedAt: 2025-07-01 17:48:11 -0400 (Tue, 01 Jul 2025) EllapsedTime: 74.2 seconds RetCode: 0 Status: OK PackageFile: mpra_1.31.0.tar.gz PackageFileSize: 3.329 MiB