Package: mpra Version: 1.31.0 Command: rm -rf mpra.buildbin-libdir && mkdir mpra.buildbin-libdir && /Users/biocbuild/BBS/utils/build-universal.sh mpra_1.31.0.tar.gz /Library/Frameworks/R.framework/Resources/bin/R mpra.buildbin-libdir StartedAt: 2025-07-02 01:07:50 -0400 (Wed, 02 Jul 2025) EndedAt: 2025-07-02 01:08:25 -0400 (Wed, 02 Jul 2025) EllapsedTime: 34.5 seconds RetCode: 0 Status: OK PackageFile: mpra_1.31.0.tgz PackageFileSize: 3.549 MiB