Package: mpra Version: 1.31.0 Command: /Library/Frameworks/R.framework/Resources/bin/R CMD check --install=check:mpra.install-out.txt --library=/Library/Frameworks/R.framework/Resources/library --no-vignettes --timings mpra_1.31.0.tar.gz StartedAt: 2025-07-07 20:16:47 -0400 (Mon, 07 Jul 2025) EndedAt: 2025-07-07 20:18:00 -0400 (Mon, 07 Jul 2025) EllapsedTime: 73.1 seconds RetCode: 0 Status: OK CheckDir: mpra.Rcheck Warnings: 0