Package: mpra Version: 1.31.0 Command: /Library/Frameworks/R.framework/Resources/bin/R CMD build --keep-empty-dirs --no-resave-data mpra StartedAt: 2025-07-07 16:58:20 -0400 (Mon, 07 Jul 2025) EndedAt: 2025-07-07 16:58:42 -0400 (Mon, 07 Jul 2025) EllapsedTime: 21.2 seconds RetCode: 0 Status: OK PackageFile: mpra_1.31.0.tar.gz PackageFileSize: 3.331 MiB