Package: mpra Version: 1.31.0 Command: rm -rf mpra.buildbin-libdir && mkdir mpra.buildbin-libdir && /Users/biocbuild/BBS/utils/build-universal.sh mpra_1.31.0.tar.gz /Library/Frameworks/R.framework/Resources/bin/R mpra.buildbin-libdir StartedAt: 2025-07-07 22:24:21 -0400 (Mon, 07 Jul 2025) EndedAt: 2025-07-07 22:24:31 -0400 (Mon, 07 Jul 2025) EllapsedTime: 10.2 seconds RetCode: 0 Status: OK PackageFile: mpra_1.31.0.tgz PackageFileSize: 3.552 MiB