Package: motifmatchr Version: 1.31.1 Command: /home/biocbuild/R/R/bin/R CMD build --keep-empty-dirs --no-resave-data motifmatchr StartedAt: 2025-07-25 02:12:54 -0000 (Fri, 25 Jul 2025) EndedAt: 2025-07-25 02:15:11 -0000 (Fri, 25 Jul 2025) EllapsedTime: 137.1 seconds RetCode: 0 Status: OK PackageFile: motifmatchr_1.31.1.tar.gz PackageFileSize: 52.32 KiB