Package: motifmatchr Version: 1.31.0 Command: F:\biocbuild\bbs-3.22-bioc\R\bin\R.exe CMD check --no-multiarch --install=check:motifmatchr.install-out.txt --library=F:\biocbuild\bbs-3.22-bioc\R\library --no-vignettes --timings motifmatchr_1.31.0.tar.gz StartedAt: 2025-07-23 04:19:32 -0400 (Wed, 23 Jul 2025) EndedAt: 2025-07-23 04:25:10 -0400 (Wed, 23 Jul 2025) EllapsedTime: 338.1 seconds RetCode: 0 Status: OK CheckDir: motifmatchr.Rcheck Warnings: 0