Package: motifmatchr Version: 1.31.0 Command: /home/biocbuild/bbs-3.22-bioc/R/bin/R CMD check --install=check:motifmatchr.install-out.txt --library=/home/biocbuild/bbs-3.22-bioc/R/site-library --timings motifmatchr_1.31.0.tar.gz StartedAt: 2025-07-10 01:22:54 -0400 (Thu, 10 Jul 2025) EndedAt: 2025-07-10 01:28:19 -0400 (Thu, 10 Jul 2025) EllapsedTime: 324.3 seconds RetCode: 0 Status: OK CheckDir: motifmatchr.Rcheck Warnings: 0