Package: motifmatchr Version: 1.31.0 Command: /Library/Frameworks/R.framework/Resources/bin/R CMD INSTALL motifmatchr StartedAt: 2025-07-01 15:52:51 -0400 (Tue, 01 Jul 2025) EndedAt: 2025-07-01 15:54:05 -0400 (Tue, 01 Jul 2025) EllapsedTime: 74.0 seconds RetCode: 0 Status: OK