Package: motifmatchr Version: 1.31.0 Command: rm -rf motifmatchr.buildbin-libdir && mkdir motifmatchr.buildbin-libdir && /Users/biocbuild/BBS/utils/build-universal.sh motifmatchr_1.31.0.tar.gz /Library/Frameworks/R.framework/Resources/bin/R motifmatchr.buildbin-libdir StartedAt: 2025-07-02 01:07:42 -0400 (Wed, 02 Jul 2025) EndedAt: 2025-07-02 01:09:01 -0400 (Wed, 02 Jul 2025) EllapsedTime: 78.3 seconds RetCode: 0 Status: OK PackageFile: motifmatchr_1.31.0.tgz PackageFileSize: 196.8 KiB