Package: motifmatchr Version: 1.31.1 Command: /Library/Frameworks/R.framework/Resources/bin/R CMD INSTALL motifmatchr StartedAt: 2025-10-06 15:26:56 -0400 (Mon, 06 Oct 2025) EndedAt: 2025-10-06 15:27:17 -0400 (Mon, 06 Oct 2025) EllapsedTime: 20.7 seconds RetCode: 0 Status: OK