Package: motifmatchr Version: 1.31.1 Command: /Library/Frameworks/R.framework/Resources/bin/R CMD build --keep-empty-dirs --no-resave-data motifmatchr StartedAt: 2025-10-06 17:06:51 -0400 (Mon, 06 Oct 2025) EndedAt: 2025-10-06 17:07:40 -0400 (Mon, 06 Oct 2025) EllapsedTime: 49.5 seconds RetCode: 0 Status: OK PackageFile: motifmatchr_1.31.1.tar.gz PackageFileSize: 51.61 KiB