Package: motifcounter Version: 1.33.0 Command: /home/biocbuild/R/R/bin/R CMD INSTALL motifcounter StartedAt: 2025-07-21 20:38:34 -0000 (Mon, 21 Jul 2025) EndedAt: 2025-07-21 20:38:51 -0000 (Mon, 21 Jul 2025) EllapsedTime: 16.6 seconds RetCode: 0 Status: OK