Package: motifcounter Version: 1.33.0 Command: /home/biocbuild/R/R/bin/R CMD build --keep-empty-dirs --no-resave-data motifcounter StartedAt: 2025-07-22 01:19:40 -0000 (Tue, 22 Jul 2025) EndedAt: 2025-07-22 01:21:09 -0000 (Tue, 22 Jul 2025) EllapsedTime: 89.0 seconds RetCode: 0 Status: OK PackageFile: motifcounter_1.33.0.tar.gz PackageFileSize: 499.9 KiB