Package: motifcounter Version: 1.33.0 Command: /home/biocbuild/bbs-3.22-bioc/R/bin/R CMD check --install=check:motifcounter.install-out.txt --library=/home/biocbuild/bbs-3.22-bioc/R/site-library --timings motifcounter_1.33.0.tar.gz StartedAt: 2025-07-18 00:18:58 -0400 (Fri, 18 Jul 2025) EndedAt: 2025-07-18 00:23:17 -0400 (Fri, 18 Jul 2025) EllapsedTime: 259.2 seconds RetCode: 0 Status: OK CheckDir: motifcounter.Rcheck Warnings: 0