Package: motifbreakR Version: 2.23.0 Command: /home/biocbuild/R/R/bin/R CMD check --install=check:motifbreakR.install-out.txt --library=/home/biocbuild/R/R/site-library --no-vignettes --timings motifbreakR_2.23.0.tar.gz StartedAt: 2025-07-22 09:24:51 -0000 (Tue, 22 Jul 2025) EndedAt: 2025-07-22 09:24:55 -0000 (Tue, 22 Jul 2025) EllapsedTime: 4.0 seconds RetCode: 1 Status: ERROR CheckDir: motifbreakR.Rcheck Warnings: NA