Package: motifbreakR Version: 2.23.0 Command: F:\biocbuild\bbs-3.22-bioc\R\bin\R.exe CMD INSTALL motifbreakR StartedAt: 2025-07-14 16:59:18 -0400 (Mon, 14 Jul 2025) EndedAt: 2025-07-14 17:00:44 -0400 (Mon, 14 Jul 2025) EllapsedTime: 86.4 seconds RetCode: 0 Status: OK