Package: motifbreakR Version: 2.23.0 Command: F:\biocbuild\bbs-3.22-bioc\R\bin\R.exe CMD check --no-multiarch --install=check:motifbreakR.install-out.txt --library=F:\biocbuild\bbs-3.22-bioc\R\library --no-vignettes --timings motifbreakR_2.23.0.tar.gz StartedAt: 2025-07-15 04:09:48 -0400 (Tue, 15 Jul 2025) EndedAt: 2025-07-15 04:24:37 -0400 (Tue, 15 Jul 2025) EllapsedTime: 888.9 seconds RetCode: 0 Status: WARNINGS CheckDir: motifbreakR.Rcheck Warnings: 2