Package: motifbreakR Version: 2.23.0 Command: /Library/Frameworks/R.framework/Resources/bin/R CMD INSTALL motifbreakR StartedAt: 2025-07-01 15:26:59 -0400 (Tue, 01 Jul 2025) EndedAt: 2025-07-01 15:27:27 -0400 (Tue, 01 Jul 2025) EllapsedTime: 27.9 seconds RetCode: 0 Status: OK