Package: motifbreakR Version: 2.23.0 Command: rm -rf motifbreakR.buildbin-libdir && mkdir motifbreakR.buildbin-libdir && /Users/biocbuild/BBS/utils/build-universal.sh motifbreakR_2.23.0.tar.gz /Library/Frameworks/R.framework/Resources/bin/R motifbreakR.buildbin-libdir StartedAt: 2025-07-01 22:26:22 -0400 (Tue, 01 Jul 2025) EndedAt: 2025-07-01 22:26:52 -0400 (Tue, 01 Jul 2025) EllapsedTime: 29.5 seconds RetCode: 0 Status: OK PackageFile: motifbreakR_2.23.0.tgz PackageFileSize: 2.444 MiB