Package: motifTestR Version: 1.5.0 Command: chmod a+r motifTestR -R && F:\biocbuild\bbs-3.22-bioc\R\bin\R.exe CMD build --keep-empty-dirs --no-resave-data motifTestR StartedAt: 2025-07-01 20:30:52 -0400 (Tue, 01 Jul 2025) EndedAt: 2025-07-01 20:32:48 -0400 (Tue, 01 Jul 2025) EllapsedTime: 116.2 seconds RetCode: 0 Status: OK PackageFile: motifTestR_1.5.0.tar.gz PackageFileSize: 807.8 KiB