Package: motifTestR Version: 1.5.0 Command: rm -rf motifTestR.buildbin-libdir && mkdir motifTestR.buildbin-libdir && F:\biocbuild\bbs-3.22-bioc\R\bin\R.exe CMD INSTALL --build --library=motifTestR.buildbin-libdir motifTestR_1.5.0.tar.gz StartedAt: 2025-07-02 09:20:58 -0400 (Wed, 02 Jul 2025) EndedAt: 2025-07-02 09:21:25 -0400 (Wed, 02 Jul 2025) EllapsedTime: 26.8 seconds RetCode: 0 Status: OK PackageFile: motifTestR_1.5.0.zip PackageFileSize: 907.7 KiB