Package: mosdef Version: 1.5.1 Command: chmod a+r mosdef -R && F:\biocbuild\bbs-3.22-bioc\R\bin\R.exe CMD build --keep-empty-dirs --no-resave-data mosdef StartedAt: 2025-07-24 20:42:38 -0400 (Thu, 24 Jul 2025) EndedAt: 2025-07-24 20:59:12 -0400 (Thu, 24 Jul 2025) EllapsedTime: 994.1 seconds RetCode: 0 Status: OK PackageFile: mosdef_1.5.1.tar.gz PackageFileSize: 3.517 MiB