Package: mosdef Version: 1.5.1 Command: /Library/Frameworks/R.framework/Resources/bin/R CMD INSTALL mosdef StartedAt: 2025-10-16 16:11:28 -0400 (Thu, 16 Oct 2025) EndedAt: 2025-10-16 16:12:34 -0400 (Thu, 16 Oct 2025) EllapsedTime: 65.8 seconds RetCode: 0 Status: OK