Package: mosbi Version: 1.15.0 Command: /Library/Frameworks/R.framework/Resources/bin/R CMD INSTALL mosbi StartedAt: 2025-07-11 15:06:38 -0400 (Fri, 11 Jul 2025) EndedAt: 2025-07-11 15:06:57 -0400 (Fri, 11 Jul 2025) EllapsedTime: 19.2 seconds RetCode: 0 Status: OK