Package: mosbi Version: 1.15.0 Command: rm -rf mosbi.buildbin-libdir && mkdir mosbi.buildbin-libdir && /Users/biocbuild/BBS/utils/build-universal.sh mosbi_1.15.0.tar.gz /Library/Frameworks/R.framework/Resources/bin/R mosbi.buildbin-libdir StartedAt: 2025-07-11 22:27:13 -0400 (Fri, 11 Jul 2025) EndedAt: 2025-07-11 22:27:33 -0400 (Fri, 11 Jul 2025) EllapsedTime: 20.3 seconds RetCode: 0 Status: OK PackageFile: mosbi_1.15.0.tgz PackageFileSize: 3.048 MiB