Package: mosaics Version: 2.47.0 Command: /home/biocbuild/R/R/bin/R CMD INSTALL mosaics StartedAt: 2025-07-24 21:27:08 -0000 (Thu, 24 Jul 2025) EndedAt: 2025-07-24 21:28:15 -0000 (Thu, 24 Jul 2025) EllapsedTime: 67.2 seconds RetCode: 0 Status: OK