Package: mosaics Version: 2.47.0 Command: F:\biocbuild\bbs-3.22-bioc\R\bin\R.exe CMD INSTALL mosaics StartedAt: 2025-07-24 16:29:44 -0400 (Thu, 24 Jul 2025) EndedAt: 2025-07-24 16:31:07 -0400 (Thu, 24 Jul 2025) EllapsedTime: 83.2 seconds RetCode: 0 Status: OK