Package: mosaics Version: 2.47.0 Command: /Library/Frameworks/R.framework/Resources/bin/R CMD INSTALL mosaics StartedAt: 2025-07-13 15:28:39 -0400 (Sun, 13 Jul 2025) EndedAt: 2025-07-13 15:29:41 -0400 (Sun, 13 Jul 2025) EllapsedTime: 61.9 seconds RetCode: 0 Status: OK