Package: mosaics Version: 2.47.0 Command: /Library/Frameworks/R.framework/Resources/bin/R CMD build --keep-empty-dirs --no-resave-data mosaics StartedAt: 2025-07-13 17:41:18 -0400 (Sun, 13 Jul 2025) EndedAt: 2025-07-13 17:44:54 -0400 (Sun, 13 Jul 2025) EllapsedTime: 215.9 seconds RetCode: 0 Status: OK PackageFile: mosaics_2.47.0.tar.gz PackageFileSize: 2.039 MiB