Package: mosaics Version: 2.47.0 Command: /Library/Frameworks/R.framework/Resources/bin/R CMD INSTALL mosaics StartedAt: 2025-07-21 15:15:19 -0400 (Mon, 21 Jul 2025) EndedAt: 2025-07-21 15:15:36 -0400 (Mon, 21 Jul 2025) EllapsedTime: 16.7 seconds RetCode: 0 Status: OK