Package: mosaics Version: 2.47.0 Command: /Library/Frameworks/R.framework/Resources/bin/R CMD check --install=check:mosaics.install-out.txt --library=/Library/Frameworks/R.framework/Resources/library --no-vignettes --timings mosaics_2.47.0.tar.gz StartedAt: 2025-07-21 20:19:41 -0400 (Mon, 21 Jul 2025) EndedAt: 2025-07-21 20:20:55 -0400 (Mon, 21 Jul 2025) EllapsedTime: 73.9 seconds RetCode: 0 Status: OK CheckDir: mosaics.Rcheck Warnings: 0