Package: mosaics Version: 2.47.0 Command: rm -rf mosaics.buildbin-libdir && mkdir mosaics.buildbin-libdir && /Users/biocbuild/BBS/utils/build-universal.sh mosaics_2.47.0.tar.gz /Library/Frameworks/R.framework/Resources/bin/R mosaics.buildbin-libdir StartedAt: 2025-07-21 22:32:48 -0400 (Mon, 21 Jul 2025) EndedAt: 2025-07-21 22:33:06 -0400 (Mon, 21 Jul 2025) EllapsedTime: 18.3 seconds RetCode: 0 Status: OK PackageFile: mosaics_2.47.0.tgz PackageFileSize: 1.841 MiB