Package: monocle Version: 2.37.0 Command: /Library/Frameworks/R.framework/Resources/bin/R CMD check --install=check:monocle.install-out.txt --library=/Library/Frameworks/R.framework/Resources/library --no-vignettes --timings monocle_2.37.0.tar.gz StartedAt: 2025-07-22 20:18:29 -0400 (Tue, 22 Jul 2025) EndedAt: 2025-07-22 20:19:05 -0400 (Tue, 22 Jul 2025) EllapsedTime: 36.4 seconds RetCode: 0 Status: OK CheckDir: monocle.Rcheck Warnings: 0