Package: monaLisa Version: 1.15.0 Command: /home/biocbuild/R/R/bin/R CMD build --keep-empty-dirs --no-resave-data monaLisa StartedAt: 2025-07-15 01:11:08 -0000 (Tue, 15 Jul 2025) EndedAt: 2025-07-15 01:12:15 -0000 (Tue, 15 Jul 2025) EllapsedTime: 67.0 seconds RetCode: 1 Status: ERROR PackageFile: None PackageFileSize: NA