Package: monaLisa Version: 1.15.0 Command: /home/biocbuild/bbs-3.22-bioc/R/bin/R CMD INSTALL monaLisa StartedAt: 2025-07-06 15:47:57 -0400 (Sun, 06 Jul 2025) EndedAt: 2025-07-06 15:48:38 -0400 (Sun, 06 Jul 2025) EllapsedTime: 40.8 seconds RetCode: 0 Status: OK