Package: monaLisa Version: 1.15.0 Command: /home/biocbuild/bbs-3.22-bioc/R/bin/R CMD check --install=check:monaLisa.install-out.txt --library=/home/biocbuild/bbs-3.22-bioc/R/site-library --timings monaLisa_1.15.0.tar.gz StartedAt: 2025-07-07 00:08:57 -0400 (Mon, 07 Jul 2025) EndedAt: 2025-07-07 00:18:34 -0400 (Mon, 07 Jul 2025) EllapsedTime: 576.5 seconds RetCode: 0 Status: OK CheckDir: monaLisa.Rcheck Warnings: 0